BEGIN:VCALENDAR
VERSION:2.0
PRODID:-//CEN Isère - ECPv6.15.20//NONSGML v1.0//EN
CALSCALE:GREGORIAN
METHOD:PUBLISH
X-ORIGINAL-URL:https://www.cen-isere.org
X-WR-CALDESC:Évènements pour CEN Isère
REFRESH-INTERVAL;VALUE=DURATION:PT1H
X-Robots-Tag:noindex
X-PUBLISHED-TTL:PT1H
BEGIN:VTIMEZONE
TZID:Europe/Paris
BEGIN:DAYLIGHT
TZOFFSETFROM:+0100
TZOFFSETTO:+0200
TZNAME:CEST
DTSTART:20240331T010000
END:DAYLIGHT
BEGIN:STANDARD
TZOFFSETFROM:+0200
TZOFFSETTO:+0100
TZNAME:CET
DTSTART:20241027T010000
END:STANDARD
BEGIN:DAYLIGHT
TZOFFSETFROM:+0100
TZOFFSETTO:+0200
TZNAME:CEST
DTSTART:20250330T010000
END:DAYLIGHT
BEGIN:STANDARD
TZOFFSETFROM:+0200
TZOFFSETTO:+0100
TZNAME:CET
DTSTART:20251026T010000
END:STANDARD
BEGIN:DAYLIGHT
TZOFFSETFROM:+0100
TZOFFSETTO:+0200
TZNAME:CEST
DTSTART:20260329T010000
END:DAYLIGHT
BEGIN:STANDARD
TZOFFSETFROM:+0200
TZOFFSETTO:+0100
TZNAME:CET
DTSTART:20261025T010000
END:STANDARD
END:VTIMEZONE
BEGIN:VEVENT
DTSTART;TZID=Europe/Paris:20250422T140000
DTEND;TZID=Europe/Paris:20250422T160000
DTSTAMP:20260421T124235
CREATED:20250314T101726Z
LAST-MODIFIED:20250415T083520Z
UID:17861-1745330400-1745337600@www.cen-isere.org
SUMMARY:À la découverte de la Boucle des Moïles et de ses habitants
DESCRIPTION:Boucle des Moïles\n\n\n\n\n\nVenez explorer la Boucle des Moïles et rencontrer ses habitants !À Tullins\, profitez d’une balade guidée au cœur d’un paysage façonné par la rivière. Découvrez les secrets des paléo-méandres et de la forêt alluviale tout en apprenant à mieux comprendre l’écosystème unique de ce site. La visite se poursuivra par un moment d’observation et d’identification des petites créatures qui peuplent la mare\, pour une immersion totale dans cette zone humide remarquable. \n\n\n\n \n\n\n\nLieu du rendez-vous : parking du sentier de découverte \n\n\n\nPrévoir des vêtements adaptés et des bottes en cas de pluie les jours précédents. \n\n\n\n 
URL:https://www.cen-isere.org/event/moil-visite-160425/
CATEGORIES:40 ans,Animation,Conservatoire d'espaces naturels Isère
ATTACH;FMTTYPE=image/jpeg:https://www.cen-isere.org/wp-content/uploads/2015/04/MOIL_salicaire_GP.jpg
ORGANIZER;CN="Conservatoire d'espaces naturels Is%C3%A8re":MAILTO:animations.siege@cen-isere.org
END:VEVENT
END:VCALENDAR