BEGIN:VCALENDAR
VERSION:2.0
PRODID:-//CEN Isère - ECPv6.15.20//NONSGML v1.0//EN
CALSCALE:GREGORIAN
METHOD:PUBLISH
X-ORIGINAL-URL:https://www.cen-isere.org
X-WR-CALDESC:Évènements pour CEN Isère
REFRESH-INTERVAL;VALUE=DURATION:PT1H
X-Robots-Tag:noindex
X-PUBLISHED-TTL:PT1H
BEGIN:VTIMEZONE
TZID:Europe/Paris
BEGIN:DAYLIGHT
TZOFFSETFROM:+0100
TZOFFSETTO:+0200
TZNAME:CEST
DTSTART:20240331T010000
END:DAYLIGHT
BEGIN:STANDARD
TZOFFSETFROM:+0200
TZOFFSETTO:+0100
TZNAME:CET
DTSTART:20241027T010000
END:STANDARD
BEGIN:DAYLIGHT
TZOFFSETFROM:+0100
TZOFFSETTO:+0200
TZNAME:CEST
DTSTART:20250330T010000
END:DAYLIGHT
BEGIN:STANDARD
TZOFFSETFROM:+0200
TZOFFSETTO:+0100
TZNAME:CET
DTSTART:20251026T010000
END:STANDARD
BEGIN:DAYLIGHT
TZOFFSETFROM:+0100
TZOFFSETTO:+0200
TZNAME:CEST
DTSTART:20260329T010000
END:DAYLIGHT
BEGIN:STANDARD
TZOFFSETFROM:+0200
TZOFFSETTO:+0100
TZNAME:CET
DTSTART:20261025T010000
END:STANDARD
END:VTIMEZONE
BEGIN:VEVENT
DTSTART;TZID=Europe/Paris:20250524T140000
DTEND;TZID=Europe/Paris:20250524T180000
DTSTAMP:20260421T105233
CREATED:20250403T091339Z
LAST-MODIFIED:20250403T091340Z
UID:17906-1748095200-1748109600@www.cen-isere.org
SUMMARY:Fête de la nature à Salaise-sur Sanne
DESCRIPTION:Réserve naturelle de l’île de la Platière\n\n\n\n\n\nL’espace « Bi’eau div »Vous souhaitez vous sensibiliser à la grande diversité de la biodiversité de votre territoire ?Le CEN Isère vous propose de découvrir les différents milieux naturels (Milieux aquatiques et Zones humides\, pelouses sèches et prairies\, forêts…) façonner au fil des siècles par « Le fleuve Rhône » qui abrite un incroyable patrimoine floristique et faunistique.Nous vous présenterons la faune et la flore qui les composent\, leurs fonctionnements et leurs enjeux (préservation de la ressource en Eau et de la biodiversité\, risques et pollutions…). Venez comprendre le rôle et les métiers des naturalistes en découvrant les outils qu’ils utilisent et comme eux vous essayer à la reconnaissance et la détermination de la faune et de la flore.Notre espace « Bi’eau div’ » vous propose des animations ludiques\, des jeux\, des quiz\, un petitmusée des curiosités\, des supports pédagogiques afin de rendre hommage à ces milieux qui font larichesse naturelle de notre territoire. \n\n\n\n \n\n\n\nLieu du rendez-vous : Le Prieuré – Salaise-sur-Sanne \n\n\n\n 
URL:https://www.cen-isere.org/event/rnip-fdln-salaise/
CATEGORIES:40 ans,Animation,Conservatoire d'espaces naturels Isère,Réserve naturelle de l'île de la Platière
ATTACH;FMTTYPE=image/jpeg:https://www.cen-isere.org/wp-content/uploads/2025/04/FDLN2025-Macaron-manifestation-officielle.jpg
ORGANIZER;CN="R%C3%A9serve naturelle de l'%C3%AEle de la Plati%C3%A8re":MAILTO:animation-platiere@cen-isere.org
END:VEVENT
END:VCALENDAR