BEGIN:VCALENDAR
VERSION:2.0
PRODID:-//CEN Isère - ECPv6.15.20//NONSGML v1.0//EN
CALSCALE:GREGORIAN
METHOD:PUBLISH
X-WR-CALNAME:CEN Isère
X-ORIGINAL-URL:https://www.cen-isere.org
X-WR-CALDESC:Évènements pour CEN Isère
REFRESH-INTERVAL;VALUE=DURATION:PT1H
X-Robots-Tag:noindex
X-PUBLISHED-TTL:PT1H
BEGIN:VTIMEZONE
TZID:Europe/Paris
BEGIN:DAYLIGHT
TZOFFSETFROM:+0100
TZOFFSETTO:+0200
TZNAME:CEST
DTSTART:20240331T010000
END:DAYLIGHT
BEGIN:STANDARD
TZOFFSETFROM:+0200
TZOFFSETTO:+0100
TZNAME:CET
DTSTART:20241027T010000
END:STANDARD
BEGIN:DAYLIGHT
TZOFFSETFROM:+0100
TZOFFSETTO:+0200
TZNAME:CEST
DTSTART:20250330T010000
END:DAYLIGHT
BEGIN:STANDARD
TZOFFSETFROM:+0200
TZOFFSETTO:+0100
TZNAME:CET
DTSTART:20251026T010000
END:STANDARD
BEGIN:DAYLIGHT
TZOFFSETFROM:+0100
TZOFFSETTO:+0200
TZNAME:CEST
DTSTART:20260329T010000
END:DAYLIGHT
BEGIN:STANDARD
TZOFFSETFROM:+0200
TZOFFSETTO:+0100
TZNAME:CET
DTSTART:20261025T010000
END:STANDARD
END:VTIMEZONE
BEGIN:VEVENT
DTSTART;TZID=Europe/Paris:20250518T080000
DTEND;TZID=Europe/Paris:20250518T103000
DTSTAMP:20260424T175327
CREATED:20250507T024057Z
LAST-MODIFIED:20250507T024931Z
UID:17970-1747555200-1747564200@www.cen-isere.org
SUMMARY:Métrorando
DESCRIPTION:Sassenage\n\n\n\n\n\nDeux fois par an\, la Métropole organise la Métrorando\, une balade guidée et gratuite sur son territoire\, pour tous les publics. Organisée Par Grenoble Alpes Métropole en partenariat avec la FFRandonnée de l’Isère. \n\n\n\n \n\n\n\nLieu du rendez-vous : parc de l’Ovalie \n\n\n\n \n\n\n\n 
URL:https://www.cen-isere.org/event/metrorando/
CATEGORIES:40 ans,A la une,Animation,Conservatoire d'espaces naturels Isère
ATTACH;FMTTYPE=image/jpeg:https://www.cen-isere.org/wp-content/uploads/2024/06/2024_Metrorando-stand.jpg
ORGANIZER;CN="Conservatoire d'espaces naturels Is%C3%A8re":MAILTO:animations.siege@cen-isere.org
END:VEVENT
BEGIN:VEVENT
DTSTART;TZID=Europe/Paris:20250525T113000
DTEND;TZID=Europe/Paris:20250525T173000
DTSTAMP:20260424T175327
CREATED:20250507T025647Z
LAST-MODIFIED:20250507T070757Z
UID:17973-1748172600-1748194200@www.cen-isere.org
SUMMARY:Fête de la nature à Sassenage
DESCRIPTION:Sassenage\n\n\n\n\n\nVenez profiter d’une journée riche en découvertes et en activités pour toute la famille. Au programme : \n\n\n\nRencontre avec les animaux à la ferme pédagogique.Amusement garanti avec les jeux en bois et les courses de kart à pédale.Balade relaxante en calèche.Découverte de l’artisanat local grâce aux différents stands présents.Possibilité de se restaurer et de se rafraîchir à la buvette. \n\n\n\nUn événement gratuit et en accès libre\, organisé en partenariat avec Environnement Nature Sassenage (ENS). \n\n\n\n \n\n\n\nLieu du rendez-vous : parc de l’Ovalie \n\n\n\n \n\n\n\n 
URL:https://www.cen-isere.org/event/fdln2025/
CATEGORIES:40 ans,A la une,Animation,Conservatoire d'espaces naturels Isère
ATTACH;FMTTYPE=image/jpeg:https://www.cen-isere.org/wp-content/uploads/2024/06/2024_Metrorando-stand.jpg
ORGANIZER;CN="Conservatoire d'espaces naturels Is%C3%A8re":MAILTO:animations.siege@cen-isere.org
END:VEVENT
END:VCALENDAR